Package: ROSeq Version: 1.22.0 Command: /Library/Frameworks/R.framework/Resources/bin/R CMD build --keep-empty-dirs --no-resave-data ROSeq StartedAt: 2025-11-21 08:50:16 -0500 (Fri, 21 Nov 2025) EndedAt: 2025-11-21 08:55:06 -0500 (Fri, 21 Nov 2025) EllapsedTime: 290.1 seconds RetCode: 0 Status: OK PackageFile: ROSeq_1.22.0.tar.gz PackageFileSize: 4.191 MiB