Package: ROCpAI Version: 1.21.0 Command: /home/biocbuild/R/R/bin/R CMD INSTALL ROCpAI StartedAt: 2025-10-16 21:35:41 -0000 (Thu, 16 Oct 2025) EndedAt: 2025-10-16 21:36:08 -0000 (Thu, 16 Oct 2025) EllapsedTime: 26.7 seconds RetCode: 0 Status: OK