Package: ROCpAI Version: 1.21.0 Command: /home/biocbuild/R/R/bin/R CMD check --install=check:ROCpAI.install-out.txt --library=/home/biocbuild/R/R/site-library --no-vignettes --timings ROCpAI_1.21.0.tar.gz StartedAt: 2025-10-17 12:58:24 -0000 (Fri, 17 Oct 2025) EndedAt: 2025-10-17 13:01:16 -0000 (Fri, 17 Oct 2025) EllapsedTime: 172.2 seconds RetCode: 0 Status: OK CheckDir: ROCpAI.Rcheck Warnings: 0