Package: ROC Version: 1.85.0 Command: /home/biocbuild/R/R/bin/R CMD build --keep-empty-dirs --no-resave-data ROC StartedAt: 2025-10-21 02:37:22 -0000 (Tue, 21 Oct 2025) EndedAt: 2025-10-21 02:37:28 -0000 (Tue, 21 Oct 2025) EllapsedTime: 6.0 seconds RetCode: 0 Status: OK PackageFile: ROC_1.85.0.tar.gz PackageFileSize: 277.6 KiB