Package: ROC Version: 1.85.0 Command: chmod a+r ROC -R && F:\biocbuild\bbs-3.22-bioc\R\bin\R.exe CMD build --keep-empty-dirs --no-resave-data ROC StartedAt: 2025-08-14 22:50:56 -0400 (Thu, 14 Aug 2025) EndedAt: 2025-08-14 22:51:08 -0400 (Thu, 14 Aug 2025) EllapsedTime: 12.0 seconds RetCode: 0 Status: OK PackageFile: ROC_1.85.0.tar.gz PackageFileSize: 251.2 KiB