Package: ROC Version: 1.85.0 Command: rm -rf ROC.buildbin-libdir && mkdir ROC.buildbin-libdir && F:\biocbuild\bbs-3.22-bioc\R\bin\R.exe CMD INSTALL --build --library=ROC.buildbin-libdir ROC_1.85.0.tar.gz StartedAt: 2025-08-15 11:10:16 -0400 (Fri, 15 Aug 2025) EndedAt: 2025-08-15 11:10:26 -0400 (Fri, 15 Aug 2025) EllapsedTime: 10.3 seconds RetCode: 0 Status: OK PackageFile: ROC_1.85.0.zip PackageFileSize: 278 KiB