Package: ROC Version: 1.85.0 Command: /Library/Frameworks/R.framework/Resources/bin/R CMD INSTALL ROC StartedAt: 2025-10-20 15:07:33 -0400 (Mon, 20 Oct 2025) EndedAt: 2025-10-20 15:08:30 -0400 (Mon, 20 Oct 2025) EllapsedTime: 57.7 seconds RetCode: 0 Status: OK