Package: ROC Version: 1.85.0 Command: /Library/Frameworks/R.framework/Resources/bin/R CMD check --install=check:ROC.install-out.txt --library=/Library/Frameworks/R.framework/Resources/library --no-vignettes --timings ROC_1.85.0.tar.gz StartedAt: 2025-10-21 01:17:22 -0400 (Tue, 21 Oct 2025) EndedAt: 2025-10-21 01:17:58 -0400 (Tue, 21 Oct 2025) EllapsedTime: 36.9 seconds RetCode: 0 Status: OK CheckDir: ROC.Rcheck Warnings: 0