Package: ROC Version: 1.85.0 Command: /Library/Frameworks/R.framework/Resources/bin/R CMD build --keep-empty-dirs --no-resave-data ROC StartedAt: 2025-10-20 19:07:56 -0400 (Mon, 20 Oct 2025) EndedAt: 2025-10-20 19:08:06 -0400 (Mon, 20 Oct 2025) EllapsedTime: 9.2 seconds RetCode: 0 Status: OK PackageFile: ROC_1.85.0.tar.gz PackageFileSize: 251.1 KiB