Package: ROC Version: 1.85.0 Command: /Library/Frameworks/R.framework/Resources/bin/R CMD INSTALL ROC StartedAt: 2025-10-22 15:03:37 -0400 (Wed, 22 Oct 2025) EndedAt: 2025-10-22 15:03:45 -0400 (Wed, 22 Oct 2025) EllapsedTime: 7.4 seconds RetCode: 0 Status: OK