Package: ROC Version: 1.85.0 Command: /Library/Frameworks/R.framework/Resources/bin/R CMD build --keep-empty-dirs --no-resave-data ROC StartedAt: 2025-10-22 17:35:24 -0400 (Wed, 22 Oct 2025) EndedAt: 2025-10-22 17:35:27 -0400 (Wed, 22 Oct 2025) EllapsedTime: 3.0 seconds RetCode: 0 Status: OK PackageFile: ROC_1.85.0.tar.gz PackageFileSize: 250.8 KiB