Package: RNAsense Version: 1.23.0 Command: /home/biocbuild/R/R/bin/R CMD build --keep-empty-dirs --no-resave-data RNAsense StartedAt: 2025-10-17 04:04:53 -0000 (Fri, 17 Oct 2025) EndedAt: 2025-10-17 04:11:22 -0000 (Fri, 17 Oct 2025) EllapsedTime: 389.2 seconds RetCode: 0 Status: OK PackageFile: RNAsense_1.23.0.tar.gz PackageFileSize: 849.1 KiB