Package: RNAsense Version: 1.23.0 Command: /home/biocbuild/bbs-3.22-bioc/R/bin/R CMD check --install=check:RNAsense.install-out.txt --library=/home/biocbuild/bbs-3.22-bioc/R/site-library --timings RNAsense_1.23.0.tar.gz StartedAt: 2025-10-23 04:02:08 -0400 (Thu, 23 Oct 2025) EndedAt: 2025-10-23 04:16:59 -0400 (Thu, 23 Oct 2025) EllapsedTime: 891.0 seconds RetCode: 0 Status: WARNINGS CheckDir: RNAsense.Rcheck Warnings: 1