Package: RNAsense Version: 1.23.0 Command: /Library/Frameworks/R.framework/Resources/bin/R CMD check --install=check:RNAsense.install-out.txt --library=/Library/Frameworks/R.framework/Resources/library --no-vignettes --timings RNAsense_1.23.0.tar.gz StartedAt: 2025-10-21 21:43:46 -0400 (Tue, 21 Oct 2025) EndedAt: 2025-10-21 21:48:12 -0400 (Tue, 21 Oct 2025) EllapsedTime: 266.4 seconds RetCode: 0 Status: WARNINGS CheckDir: RNAsense.Rcheck Warnings: 1