Package: RNAmodR Version: 1.23.2 Command: /home/biocbuild/bbs-3.22-bioc/R/bin/R CMD INSTALL RNAmodR StartedAt: 2025-10-24 15:58:42 -0400 (Fri, 24 Oct 2025) EndedAt: 2025-10-24 15:59:57 -0400 (Fri, 24 Oct 2025) EllapsedTime: 74.2 seconds RetCode: 0 Status: OK