Package: RNAmodR Version: 1.23.2 Command: /home/biocbuild/bbs-3.22-bioc/R/bin/R CMD build --keep-empty-dirs --no-resave-data --md5 RNAmodR StartedAt: 2025-10-23 19:44:06 -0400 (Thu, 23 Oct 2025) EndedAt: 2025-10-23 19:47:01 -0400 (Thu, 23 Oct 2025) EllapsedTime: 175.1 seconds RetCode: 0 Status: OK PackageFile: RNAmodR_1.23.2.tar.gz PackageFileSize: 1.534 MiB