Package: RNAmodR Version: 1.23.2 Command: /Library/Frameworks/R.framework/Resources/bin/R CMD INSTALL RNAmodR StartedAt: 2025-10-23 15:24:37 -0400 (Thu, 23 Oct 2025) EndedAt: 2025-10-23 15:25:05 -0400 (Thu, 23 Oct 2025) EllapsedTime: 28.4 seconds RetCode: 0 Status: OK