Package: RNAmodR Version: 1.23.2 Command: /Library/Frameworks/R.framework/Resources/bin/R CMD check --install=check:RNAmodR.install-out.txt --library=/Library/Frameworks/R.framework/Resources/library --no-vignettes --timings RNAmodR_1.23.2.tar.gz StartedAt: 2025-10-23 21:50:11 -0400 (Thu, 23 Oct 2025) EndedAt: 2025-10-23 21:53:57 -0400 (Thu, 23 Oct 2025) EllapsedTime: 225.9 seconds RetCode: 0 Status: OK CheckDir: RNAmodR.Rcheck Warnings: 0