Package: RNAmodR Version: 1.23.2 Command: /Library/Frameworks/R.framework/Resources/bin/R CMD build --keep-empty-dirs --no-resave-data RNAmodR StartedAt: 2025-10-24 17:32:58 -0400 (Fri, 24 Oct 2025) EndedAt: 2025-10-24 17:34:11 -0400 (Fri, 24 Oct 2025) EllapsedTime: 73.9 seconds RetCode: 0 Status: OK PackageFile: RNAmodR_1.23.2.tar.gz PackageFileSize: 1.508 MiB