Package: RNAmodR Version: 1.23.2 Command: rm -rf RNAmodR.buildbin-libdir && mkdir RNAmodR.buildbin-libdir && /Users/biocbuild/BBS/utils/build-universal.sh RNAmodR_1.23.2.tar.gz /Library/Frameworks/R.framework/Resources/bin/R RNAmodR.buildbin-libdir StartedAt: 2025-10-23 23:24:05 -0400 (Thu, 23 Oct 2025) EndedAt: 2025-10-23 23:24:38 -0400 (Thu, 23 Oct 2025) EllapsedTime: 32.5 seconds RetCode: 0 Status: OK PackageFile: RNAmodR_1.23.2.tgz PackageFileSize: 2.965 MiB