Package: RNAmodR.AlkAnilineSeq Version: 1.23.1 Command: /home/biocbuild/R/R/bin/R CMD INSTALL RNAmodR.AlkAnilineSeq StartedAt: 2025-10-20 21:10:25 -0000 (Mon, 20 Oct 2025) EndedAt: 2025-10-20 21:11:39 -0000 (Mon, 20 Oct 2025) EllapsedTime: 74.8 seconds RetCode: 0 Status: OK