Package: RNAmodR.AlkAnilineSeq Version: 1.23.1 Command: /home/biocbuild/bbs-3.22-bioc/R/bin/R CMD INSTALL RNAmodR.AlkAnilineSeq StartedAt: 2025-10-20 15:46:10 -0400 (Mon, 20 Oct 2025) EndedAt: 2025-10-20 15:47:09 -0400 (Mon, 20 Oct 2025) EllapsedTime: 58.4 seconds RetCode: 0 Status: OK