Package: RNAmodR.AlkAnilineSeq Version: 1.23.1 Command: /Library/Frameworks/R.framework/Resources/bin/R CMD INSTALL RNAmodR.AlkAnilineSeq StartedAt: 2025-10-20 15:44:40 -0400 (Mon, 20 Oct 2025) EndedAt: 2025-10-20 15:46:02 -0400 (Mon, 20 Oct 2025) EllapsedTime: 82.2 seconds RetCode: 0 Status: OK