Package: RNAmodR.AlkAnilineSeq Version: 1.23.1 Command: /Library/Frameworks/R.framework/Resources/bin/R CMD check --install=check:RNAmodR.AlkAnilineSeq.install-out.txt --library=/Library/Frameworks/R.framework/Resources/library --no-vignettes --timings RNAmodR.AlkAnilineSeq_1.23.1.tar.gz StartedAt: 2025-10-20 01:12:41 -0400 (Mon, 20 Oct 2025) EndedAt: 2025-10-20 01:21:27 -0400 (Mon, 20 Oct 2025) EllapsedTime: 525.7 seconds RetCode: 0 Status: OK CheckDir: RNAmodR.AlkAnilineSeq.Rcheck Warnings: 0