Package: RNAmodR.AlkAnilineSeq Version: 1.23.1 Command: rm -rf RNAmodR.AlkAnilineSeq.buildbin-libdir && mkdir RNAmodR.AlkAnilineSeq.buildbin-libdir && /Users/biocbuild/BBS/utils/build-universal.sh RNAmodR.AlkAnilineSeq_1.23.1.tar.gz /Library/Frameworks/R.framework/Resources/bin/R RNAmodR.AlkAnilineSeq.buildbin-libdir StartedAt: 2025-10-21 03:32:03 -0400 (Tue, 21 Oct 2025) EndedAt: 2025-10-21 03:33:28 -0400 (Tue, 21 Oct 2025) EllapsedTime: 84.1 seconds RetCode: 0 Status: OK PackageFile: RNAmodR.AlkAnilineSeq_1.23.1.tgz PackageFileSize: 1.11 MiB