Package: RNAmodR.AlkAnilineSeq Version: 1.23.1 Maintainer: Felix G.M. Ernst MaintainerEmail: felix.gm.ernst at outlook.com git_url: https://git.bioconductor.org/packages/RNAmodR.AlkAnilineSeq git_branch: devel git_last_commit: 3ae4974 git_last_commit_date: 2025-09-23 16:38:59 -0400 (Tue, 23 Sep 2025)