Package: RNAAgeCalc Version: 1.21.0 Command: /home/biocbuild/R/R/bin/R CMD build --keep-empty-dirs --no-resave-data RNAAgeCalc StartedAt: 2025-10-21 02:32:31 -0000 (Tue, 21 Oct 2025) EndedAt: 2025-10-21 02:33:58 -0000 (Tue, 21 Oct 2025) EllapsedTime: 87.1 seconds RetCode: 0 Status: OK PackageFile: RNAAgeCalc_1.21.0.tar.gz PackageFileSize: 3.318 MiB