Package: RNAAgeCalc Version: 1.21.0 Command: /home/biocbuild/bbs-3.22-bioc/R/bin/R CMD INSTALL RNAAgeCalc StartedAt: 2025-10-20 15:57:22 -0400 (Mon, 20 Oct 2025) EndedAt: 2025-10-20 15:58:14 -0400 (Mon, 20 Oct 2025) EllapsedTime: 52.6 seconds RetCode: 0 Status: OK