Package: RNAAgeCalc Version: 1.21.0 Command: /Library/Frameworks/R.framework/Resources/bin/R CMD INSTALL RNAAgeCalc StartedAt: 2025-10-19 15:53:34 -0400 (Sun, 19 Oct 2025) EndedAt: 2025-10-19 15:54:35 -0400 (Sun, 19 Oct 2025) EllapsedTime: 60.6 seconds RetCode: 0 Status: OK