Package: RNAAgeCalc Version: 1.21.0 Command: /Library/Frameworks/R.framework/Resources/bin/R CMD check --install=check:RNAAgeCalc.install-out.txt --library=/Library/Frameworks/R.framework/Resources/library --no-vignettes --timings RNAAgeCalc_1.21.0.tar.gz StartedAt: 2025-10-20 01:11:57 -0400 (Mon, 20 Oct 2025) EndedAt: 2025-10-20 01:18:25 -0400 (Mon, 20 Oct 2025) EllapsedTime: 388.0 seconds RetCode: 0 Status: OK CheckDir: RNAAgeCalc.Rcheck Warnings: 0