Package: RNAAgeCalc Version: 1.21.0 Command: rm -rf RNAAgeCalc.buildbin-libdir && mkdir RNAAgeCalc.buildbin-libdir && /Users/biocbuild/BBS/utils/build-universal.sh RNAAgeCalc_1.21.0.tar.gz /Library/Frameworks/R.framework/Resources/bin/R RNAAgeCalc.buildbin-libdir StartedAt: 2025-10-20 03:29:20 -0400 (Mon, 20 Oct 2025) EndedAt: 2025-10-20 03:30:36 -0400 (Mon, 20 Oct 2025) EllapsedTime: 76.2 seconds RetCode: 0 Status: OK PackageFile: RNAAgeCalc_1.21.0.tgz PackageFileSize: 3.471 MiB