Package: RLassoCox Version: 1.17.0 Command: /home/biocbuild/R/R/bin/R CMD INSTALL RLassoCox StartedAt: 2025-10-23 20:21:51 -0000 (Thu, 23 Oct 2025) EndedAt: 2025-10-23 20:23:06 -0000 (Thu, 23 Oct 2025) EllapsedTime: 74.3 seconds RetCode: 0 Status: OK