Package: RLassoCox Version: 1.17.0 Command: F:\biocbuild\bbs-3.22-bioc\R\bin\R.exe CMD check --no-multiarch --install=check:RLassoCox.install-out.txt --library=F:\biocbuild\bbs-3.22-bioc\R\library --no-vignettes --timings RLassoCox_1.17.0.tar.gz StartedAt: 2025-08-15 07:07:24 -0400 (Fri, 15 Aug 2025) EndedAt: 2025-08-15 07:13:21 -0400 (Fri, 15 Aug 2025) EllapsedTime: 356.6 seconds RetCode: 0 Status: OK CheckDir: RLassoCox.Rcheck Warnings: 0