Package: RLassoCox Version: 1.17.0 Command: /home/biocbuild/bbs-3.22-bioc/R/bin/R CMD check --install=check:RLassoCox.install-out.txt --library=/home/biocbuild/bbs-3.22-bioc/R/site-library --timings RLassoCox_1.17.0.tar.gz StartedAt: 2025-10-25 03:25:17 -0400 (Sat, 25 Oct 2025) EndedAt: 2025-10-25 03:30:28 -0400 (Sat, 25 Oct 2025) EllapsedTime: 311.3 seconds RetCode: 0 Status: OK CheckDir: RLassoCox.Rcheck Warnings: 0