Package: RLassoCox Version: 1.17.0 Command: /Library/Frameworks/R.framework/Resources/bin/R CMD check --install=check:RLassoCox.install-out.txt --library=/Library/Frameworks/R.framework/Resources/library --no-vignettes --timings RLassoCox_1.17.0.tar.gz StartedAt: 2025-10-24 23:47:33 -0400 (Fri, 24 Oct 2025) EndedAt: 2025-10-24 23:51:25 -0400 (Fri, 24 Oct 2025) EllapsedTime: 232.4 seconds RetCode: 0 Status: OK CheckDir: RLassoCox.Rcheck Warnings: 0