Package: RLassoCox Version: 1.17.0 Command: /Library/Frameworks/R.framework/Resources/bin/R CMD build --keep-empty-dirs --no-resave-data RLassoCox StartedAt: 2025-10-24 18:29:53 -0400 (Fri, 24 Oct 2025) EndedAt: 2025-10-24 18:31:10 -0400 (Fri, 24 Oct 2025) EllapsedTime: 76.7 seconds RetCode: 0 Status: OK PackageFile: RLassoCox_1.17.0.tar.gz PackageFileSize: 1.966 MiB