Package: RLassoCox Version: 1.18.0 Command: /Library/Frameworks/R.framework/Resources/bin/R CMD check --install=check:RLassoCox.install-out.txt --library=/Library/Frameworks/R.framework/Resources/library --no-vignettes --timings RLassoCox_1.18.0.tar.gz StartedAt: 2025-10-30 04:07:28 -0400 (Thu, 30 Oct 2025) EndedAt: 2025-10-30 04:09:00 -0400 (Thu, 30 Oct 2025) EllapsedTime: 92.1 seconds RetCode: 0 Status: OK CheckDir: RLassoCox.Rcheck Warnings: 0