Package: RLMM Version: 1.72.0 Command: /home/biocbuild/R/R/bin/R CMD INSTALL RLMM StartedAt: 2025-11-17 21:03:40 -0000 (Mon, 17 Nov 2025) EndedAt: 2025-11-17 21:04:07 -0000 (Mon, 17 Nov 2025) EllapsedTime: 27.8 seconds RetCode: 0 Status: OK