Package: RLMM Version: 1.72.0 Command: /home/biocbuild/bbs-3.22-bioc/R/bin/R CMD INSTALL RLMM StartedAt: 2025-11-16 15:03:44 -0500 (Sun, 16 Nov 2025) EndedAt: 2025-11-16 15:03:56 -0500 (Sun, 16 Nov 2025) EllapsedTime: 11.9 seconds RetCode: 0 Status: OK