Package: RLMM Version: 1.71.0 Command: /Library/Frameworks/R.framework/Resources/bin/R CMD INSTALL RLMM StartedAt: 2025-10-14 15:05:39 -0400 (Tue, 14 Oct 2025) EndedAt: 2025-10-14 15:06:20 -0400 (Tue, 14 Oct 2025) EllapsedTime: 40.4 seconds RetCode: 0 Status: OK