Package: RLMM Version: 1.71.0 Command: /Library/Frameworks/R.framework/Resources/bin/R CMD build --keep-empty-dirs --no-resave-data RLMM StartedAt: 2025-10-14 18:59:41 -0400 (Tue, 14 Oct 2025) EndedAt: 2025-10-14 18:59:59 -0400 (Tue, 14 Oct 2025) EllapsedTime: 18.5 seconds RetCode: 0 Status: OK PackageFile: RLMM_1.71.0.tar.gz PackageFileSize: 419 KiB