Package: RLMM Version: 1.71.0 Command: /Library/Frameworks/R.framework/Resources/bin/R CMD check --install=check:RLMM.install-out.txt --library=/Library/Frameworks/R.framework/Resources/library --no-vignettes --timings RLMM_1.71.0.tar.gz StartedAt: 2025-10-17 21:47:01 -0400 (Fri, 17 Oct 2025) EndedAt: 2025-10-17 21:47:11 -0400 (Fri, 17 Oct 2025) EllapsedTime: 10.1 seconds RetCode: 0 Status: OK CheckDir: RLMM.Rcheck Warnings: 0