Package: RLMM Version: 1.71.0 Command: rm -rf RLMM.buildbin-libdir && mkdir RLMM.buildbin-libdir && /Users/biocbuild/BBS/utils/build-universal.sh RLMM_1.71.0.tar.gz /Library/Frameworks/R.framework/Resources/bin/R RLMM.buildbin-libdir StartedAt: 2025-10-16 23:14:55 -0400 (Thu, 16 Oct 2025) EndedAt: 2025-10-16 23:14:57 -0400 (Thu, 16 Oct 2025) EllapsedTime: 2.0 seconds RetCode: 0 Status: OK PackageFile: RLMM_1.71.0.tgz PackageFileSize: 371.9 KiB