Package: RJMCMCNucleosomes Version: 1.34.0 Command: /home/biocbuild/R/R/bin/R CMD INSTALL RJMCMCNucleosomes StartedAt: 2025-11-20 22:18:52 -0000 (Thu, 20 Nov 2025) EndedAt: 2025-11-20 22:19:56 -0000 (Thu, 20 Nov 2025) EllapsedTime: 63.4 seconds RetCode: 0 Status: OK