Package: RJMCMCNucleosomes Version: 1.34.0 Command: /home/biocbuild/R/R/bin/R CMD check --install=check:RJMCMCNucleosomes.install-out.txt --library=/home/biocbuild/R/R/site-library --no-vignettes --timings RJMCMCNucleosomes_1.34.0.tar.gz StartedAt: 2025-11-21 14:57:53 -0000 (Fri, 21 Nov 2025) EndedAt: 2025-11-21 15:03:24 -0000 (Fri, 21 Nov 2025) EllapsedTime: 330.4 seconds RetCode: 0 Status: OK CheckDir: RJMCMCNucleosomes.Rcheck Warnings: 0