Package: RJMCMCNucleosomes Version: 1.33.2 Command: F:\biocbuild\bbs-3.22-bioc\R\bin\R.exe CMD check --no-multiarch --install=check:RJMCMCNucleosomes.install-out.txt --library=F:\biocbuild\bbs-3.22-bioc\R\library --no-vignettes --timings RJMCMCNucleosomes_1.33.2.tar.gz StartedAt: 2025-08-15 07:07:22 -0400 (Fri, 15 Aug 2025) EndedAt: 2025-08-15 07:12:51 -0400 (Fri, 15 Aug 2025) EllapsedTime: 329.7 seconds RetCode: 0 Status: OK CheckDir: RJMCMCNucleosomes.Rcheck Warnings: 0