Package: RJMCMCNucleosomes Version: 1.33.2 Command: /Library/Frameworks/R.framework/Resources/bin/R CMD INSTALL RJMCMCNucleosomes StartedAt: 2025-10-16 15:57:08 -0400 (Thu, 16 Oct 2025) EndedAt: 2025-10-16 15:58:06 -0400 (Thu, 16 Oct 2025) EllapsedTime: 58.1 seconds RetCode: 0 Status: OK