Package: RJMCMCNucleosomes Version: 1.33.2 Command: rm -rf RJMCMCNucleosomes.buildbin-libdir && mkdir RJMCMCNucleosomes.buildbin-libdir && /Users/biocbuild/BBS/utils/build-universal.sh RJMCMCNucleosomes_1.33.2.tar.gz /Library/Frameworks/R.framework/Resources/bin/R RJMCMCNucleosomes.buildbin-libdir StartedAt: 2025-10-17 04:10:14 -0400 (Fri, 17 Oct 2025) EndedAt: 2025-10-17 04:11:20 -0400 (Fri, 17 Oct 2025) EllapsedTime: 65.6 seconds RetCode: 0 Status: OK PackageFile: RJMCMCNucleosomes_1.33.2.tgz PackageFileSize: 748.8 KiB