Package: RJMCMCNucleosomes Version: 1.33.2 Command: /Library/Frameworks/R.framework/Resources/bin/R CMD INSTALL RJMCMCNucleosomes StartedAt: 2025-10-03 15:17:20 -0400 (Fri, 03 Oct 2025) EndedAt: 2025-10-03 15:17:37 -0400 (Fri, 03 Oct 2025) EllapsedTime: 16.1 seconds RetCode: 0 Status: OK