Package: RIVER Version: 1.33.0 Command: /home/biocbuild/R/R/bin/R CMD INSTALL RIVER StartedAt: 2025-10-23 20:31:40 -0000 (Thu, 23 Oct 2025) EndedAt: 2025-10-23 20:31:59 -0000 (Thu, 23 Oct 2025) EllapsedTime: 18.4 seconds RetCode: 0 Status: OK